Package: nanotatoR Version: 1.16.0 Command: /Library/Frameworks/R.framework/Resources/bin/R CMD INSTALL nanotatoR StartedAt: 2023-10-15 16:21:19 -0400 (Sun, 15 Oct 2023) EndedAt: 2023-10-15 16:22:51 -0400 (Sun, 15 Oct 2023) EllapsedTime: 92.2 seconds RetCode: 0 Status: OK