Package: myvariant Version: 1.30.0 Command: /Library/Frameworks/R.framework/Resources/bin/R CMD build --keep-empty-dirs --no-resave-data myvariant StartedAt: 2023-10-15 19:49:50 -0400 (Sun, 15 Oct 2023) EndedAt: 2023-10-15 19:52:13 -0400 (Sun, 15 Oct 2023) EllapsedTime: 143.0 seconds RetCode: 0 Status: OK PackageFile: myvariant_1.30.0.tar.gz PackageFileSize: 158.5 KiB