git_url: https://git.bioconductor.org/packages/musicatk
git_branch: RELEASE_3_17
git_last_commit: 8e47184
git_last_commit_date: 2023-04-25 11:24:11 -0400 (Tue, 25 Apr 2023)
Package: musicatk
Version: 1.10.0
Maintainer: Aaron Chevalier
MaintainerEmail: atgc at bu.edu