git_url: https://git.bioconductor.org/packages/muscle
git_branch: RELEASE_3_17
git_last_commit: 6d87b0a
git_last_commit_date: 2023-04-25 10:37:59 -0400 (Tue, 25 Apr 2023)
Package: muscle
Version: 3.42.0
Maintainer: Alex T. Kalinka
MaintainerEmail: alex.t.kalinka at gmail.com