git_url: https://git.bioconductor.org/packages/muscat
git_branch: RELEASE_3_17
git_last_commit: 2f8d169
git_last_commit_date: 2023-04-25 11:12:01 -0400 (Tue, 25 Apr 2023)
Package: muscat
Version: 1.14.0
Maintainer: Helena L. Crowell
MaintainerEmail: helena at crowell.eu