git_url: https://git.bioconductor.org/packages/mumosa
git_branch: RELEASE_3_17
git_last_commit: 982cf0e
git_last_commit_date: 2023-04-25 11:25:39 -0400 (Tue, 25 Apr 2023)
Package: mumosa
Version: 1.8.0
Maintainer: Aaron Lun
MaintainerEmail: infinite.monkeys.with.keyboards at gmail.com