git_url: https://git.bioconductor.org/packages/multiOmicsViz
git_branch: RELEASE_3_17
git_last_commit: 9ee1a35
git_last_commit_date: 2023-04-25 10:52:55 -0400 (Tue, 25 Apr 2023)
Package: multiOmicsViz
Version: 1.24.0
Maintainer: Jing Wang
MaintainerEmail: jingwang.uestc at gmail.com