git_url: https://git.bioconductor.org/packages/mogsa
git_branch: RELEASE_3_17
git_last_commit: e779665
git_last_commit_date: 2023-04-25 10:38:55 -0400 (Tue, 25 Apr 2023)
Package: mogsa
Version: 1.34.0
Maintainer: Chen Meng
MaintainerEmail: mengchen18 at gmail.com