git_url: https://git.bioconductor.org/packages/moanin
git_branch: RELEASE_3_17
git_last_commit: 47c3e59
git_last_commit_date: 2023-04-25 11:25:02 -0400 (Tue, 25 Apr 2023)
Package: moanin
Version: 1.8.0
Maintainer: Nelle Varoquaux
MaintainerEmail: nelle.varoquaux at gmail.com