Package: mixOmics Version: 6.24.0 Command: F:\biocbuild\bbs-3.17-bioc\R\bin\R.exe CMD INSTALL mixOmics StartedAt: 2023-10-15 16:05:11 -0400 (Sun, 15 Oct 2023) EndedAt: 2023-10-15 16:06:01 -0400 (Sun, 15 Oct 2023) EllapsedTime: 49.2 seconds RetCode: 0 Status: OK