Package: mixOmics Version: 6.24.0 Command: rm -rf mixOmics.buildbin-libdir && mkdir mixOmics.buildbin-libdir && F:\biocbuild\bbs-3.17-bioc\R\bin\R.exe CMD INSTALL --build --library=mixOmics.buildbin-libdir mixOmics_6.24.0.tar.gz StartedAt: 2023-10-16 09:06:21 -0400 (Mon, 16 Oct 2023) EndedAt: 2023-10-16 09:07:07 -0400 (Mon, 16 Oct 2023) EllapsedTime: 46.5 seconds RetCode: 0 Status: OK PackageFile: mixOmics_6.24.0.zip PackageFileSize: 11.35 MiB