Package: mimager Version: 1.24.0 Command: F:\biocbuild\bbs-3.17-bioc\R\bin\R.exe CMD INSTALL mimager StartedAt: 2023-10-15 16:06:20 -0400 (Sun, 15 Oct 2023) EndedAt: 2023-10-15 16:06:50 -0400 (Sun, 15 Oct 2023) EllapsedTime: 30.0 seconds RetCode: 0 Status: OK