Package: mimager Version: 1.24.0 Command: /home/biocbuild/bbs-3.17-bioc/R/bin/R CMD build --keep-empty-dirs --no-resave-data mimager StartedAt: 2023-10-15 17:26:49 -0400 (Sun, 15 Oct 2023) EndedAt: 2023-10-15 17:27:42 -0400 (Sun, 15 Oct 2023) EllapsedTime: 52.8 seconds RetCode: 0 Status: OK PackageFile: mimager_1.24.0.tar.gz PackageFileSize: 651.7 KiB