Package: microRNA
Version: 1.58.0
Command: /home/biocbuild/bbs-3.17-bioc/R/bin/R CMD build --keep-empty-dirs --no-resave-data microRNA
StartedAt: 2023-10-15 17:26:40 -0400 (Sun, 15 Oct 2023)
EndedAt: 2023-10-15 17:26:43 -0400 (Sun, 15 Oct 2023)
EllapsedTime: 3.3 seconds
RetCode: 0
Status: OK
PackageFile: microRNA_1.58.0.tar.gz
PackageFileSize: 5.743 <A href="http://en.wikipedia.org/wiki/MiB" target="_blank">MiB</A>