Package: microRNA Version: 1.58.0 Command: /Library/Frameworks/R.framework/Resources/bin/R CMD check --install=check:microRNA.install-out.txt --library=/Library/Frameworks/R.framework/Resources/library --no-vignettes --timings microRNA_1.58.0.tar.gz StartedAt: 2023-10-16 03:53:37 -0400 (Mon, 16 Oct 2023) EndedAt: 2023-10-16 03:57:00 -0400 (Mon, 16 Oct 2023) EllapsedTime: 202.8 seconds RetCode: 0 Status: OK CheckDir: microRNA.Rcheck Warnings: 0