git_url: https://git.bioconductor.org/packages/miaViz
git_branch: RELEASE_3_17
git_last_commit: 77c0151
git_last_commit_date: 2023-04-25 11:28:01 -0400 (Tue, 25 Apr 2023)
Package: miaViz
Version: 1.8.0
Maintainer: Tuomas Borman
MaintainerEmail: tuomas.v.borman at utu.fi