Package: miaSim Version: 1.6.0 Command: /Library/Frameworks/R.framework/Resources/bin/R CMD check --install=check:miaSim.install-out.txt --library=/Library/Frameworks/R.framework/Resources/library --no-vignettes --timings miaSim_1.6.0.tar.gz StartedAt: 2023-10-16 03:51:37 -0400 (Mon, 16 Oct 2023) EndedAt: 2023-10-16 04:06:31 -0400 (Mon, 16 Oct 2023) EllapsedTime: 894.1 seconds RetCode: 0 Status: OK CheckDir: miaSim.Rcheck Warnings: 0