Package: miaSim Version: 1.6.0 Command: rm -rf miaSim.buildbin-libdir && mkdir miaSim.buildbin-libdir && /Users/biocbuild/BBS/utils/build-universal.sh miaSim_1.6.0.tar.gz /Library/Frameworks/R.framework/Resources/bin/R miaSim.buildbin-libdir StartedAt: 2023-10-16 09:43:16 -0400 (Mon, 16 Oct 2023) EndedAt: 2023-10-16 09:44:53 -0400 (Mon, 16 Oct 2023) EllapsedTime: 96.6 seconds RetCode: 0 Status: OK PackageFile: miaSim_1.6.0.tgz PackageFileSize: 1.271 MiB