Package: miRspongeR Version: 2.4.0 Command: chmod a+r miRspongeR -R && F:\biocbuild\bbs-3.17-bioc\R\bin\R.exe CMD build --keep-empty-dirs --no-resave-data miRspongeR StartedAt: 2023-10-15 20:30:09 -0400 (Sun, 15 Oct 2023) EndedAt: 2023-10-15 20:35:22 -0400 (Sun, 15 Oct 2023) EllapsedTime: 312.3 seconds RetCode: 0 Status: OK PackageFile: miRspongeR_2.4.0.tar.gz PackageFileSize: 646.4 KiB