##############################################################################
##############################################################################
###
### Running command:
###
###   chmod a+r miRspongeR -R && F:\biocbuild\bbs-3.17-bioc\R\bin\R.exe CMD build --keep-empty-dirs --no-resave-data miRspongeR
###
##############################################################################
##############################################################################


* checking for file 'miRspongeR/DESCRIPTION' ... OK
* preparing 'miRspongeR':
* checking DESCRIPTION meta-information ... OK
* cleaning src
* installing the package to build vignettes
* creating vignettes ... OK
* cleaning src
* checking for LF line-endings in source and make files and shell scripts
* checking for empty or unneeded directories
Omitted 'LazyData' from DESCRIPTION
* building 'miRspongeR_2.4.0.tar.gz'