Package: miRspongeR Version: 2.4.0 Command: /home/biocbuild/bbs-3.17-bioc/R/bin/R CMD INSTALL miRspongeR StartedAt: 2023-10-15 15:48:13 -0400 (Sun, 15 Oct 2023) EndedAt: 2023-10-15 15:48:47 -0400 (Sun, 15 Oct 2023) EllapsedTime: 34.6 seconds RetCode: 0 Status: OK