Package: miRspongeR Version: 2.4.0 Command: /home/biocbuild/bbs-3.17-bioc/R/bin/R CMD check --install=check:miRspongeR.install-out.txt --library=/home/biocbuild/bbs-3.17-bioc/R/site-library --timings miRspongeR_2.4.0.tar.gz StartedAt: 2023-10-15 22:54:27 -0400 (Sun, 15 Oct 2023) EndedAt: 2023-10-15 23:04:10 -0400 (Sun, 15 Oct 2023) EllapsedTime: 583.3 seconds RetCode: 0 Status: OK CheckDir: miRspongeR.Rcheck Warnings: 0