Package: miRspongeR
Version: 2.4.0
Command: /home/biocbuild/bbs-3.17-bioc/R/bin/R CMD build --keep-empty-dirs --no-resave-data miRspongeR
StartedAt: 2023-10-15 17:28:45 -0400 (Sun, 15 Oct 2023)
EndedAt: 2023-10-15 17:33:58 -0400 (Sun, 15 Oct 2023)
EllapsedTime: 312.3 seconds
RetCode: 0
Status: OK
PackageFile: miRspongeR_2.4.0.tar.gz
PackageFileSize: 646.2 <A href="http://en.wikipedia.org/wiki/KiB" target="_blank">KiB</A>