git_url: https://git.bioconductor.org/packages/miRBaseConverter
git_branch: RELEASE_3_17
git_last_commit: 55b0362
git_last_commit_date: 2023-04-25 10:54:32 -0400 (Tue, 25 Apr 2023)
Package: miRBaseConverter
Version: 1.24.0
Maintainer: Taosheng Xu
MaintainerEmail: taosheng.x at gmail.com