git_url: https://git.bioconductor.org/packages/methylclock
git_branch: RELEASE_3_17
git_last_commit: 606bfdf
git_last_commit_date: 2023-04-25 11:31:03 -0400 (Tue, 25 Apr 2023)
Package: methylclock
Version: 1.6.0
Maintainer: Dolors Pelegri-Siso
MaintainerEmail: dolors.pelegri at isglobal.org