Package: methimpute Version: 1.22.0 Command: /home/biocbuild/bbs-3.17-bioc/R/bin/R CMD INSTALL methimpute StartedAt: 2023-10-15 15:13:56 -0400 (Sun, 15 Oct 2023) EndedAt: 2023-10-15 15:14:45 -0400 (Sun, 15 Oct 2023) EllapsedTime: 48.4 seconds RetCode: 0 Status: OK