Package: memes Version: 1.8.0 Command: F:\biocbuild\bbs-3.17-bioc\R\bin\R.exe CMD INSTALL memes StartedAt: 2023-10-15 16:33:39 -0400 (Sun, 15 Oct 2023) EndedAt: 2023-10-15 16:34:05 -0400 (Sun, 15 Oct 2023) EllapsedTime: 25.6 seconds RetCode: 0 Status: OK