Package: memes Version: 1.8.0 Command: chmod a+r memes -R && F:\biocbuild\bbs-3.17-bioc\R\bin\R.exe CMD build --keep-empty-dirs --no-resave-data memes StartedAt: 2023-10-15 20:15:02 -0400 (Sun, 15 Oct 2023) EndedAt: 2023-10-15 20:16:07 -0400 (Sun, 15 Oct 2023) EllapsedTime: 65.1 seconds RetCode: 0 Status: OK PackageFile: memes_1.8.0.tar.gz PackageFileSize: 1.007 MiB