Package: memes Version: 1.8.0 Command: rm -rf memes.buildbin-libdir && mkdir memes.buildbin-libdir && F:\biocbuild\bbs-3.17-bioc\R\bin\R.exe CMD INSTALL --build --library=memes.buildbin-libdir memes_1.8.0.tar.gz StartedAt: 2023-10-16 09:02:56 -0400 (Mon, 16 Oct 2023) EndedAt: 2023-10-16 09:03:25 -0400 (Mon, 16 Oct 2023) EllapsedTime: 28.9 seconds RetCode: 0 Status: OK PackageFile: memes_1.8.0.zip PackageFileSize: 1.124 MiB