git_url: https://git.bioconductor.org/packages/mbkmeans
git_branch: RELEASE_3_17
git_last_commit: 1f8f519
git_last_commit_date: 2023-04-25 11:09:13 -0400 (Tue, 25 Apr 2023)
Package: mbkmeans
Version: 1.16.0
Maintainer: Davide Risso
MaintainerEmail: risso.davide at gmail.com