Package: marray Version: 1.78.0 Command: F:\biocbuild\bbs-3.17-bioc\R\bin\R.exe CMD check --no-multiarch --install=check:marray.install-out.txt --library=F:\biocbuild\bbs-3.17-bioc\R\library --no-vignettes --timings marray_1.78.0.tar.gz StartedAt: 2023-10-16 03:40:12 -0400 (Mon, 16 Oct 2023) EndedAt: 2023-10-16 03:41:16 -0400 (Mon, 16 Oct 2023) EllapsedTime: 63.5 seconds RetCode: 0 Status: OK CheckDir: marray.Rcheck Warnings: 0