Package: marray Version: 1.78.0 Command: /home/biocbuild/bbs-3.17-bioc/R/bin/R CMD INSTALL marray StartedAt: 2023-10-15 15:10:04 -0400 (Sun, 15 Oct 2023) EndedAt: 2023-10-15 15:10:14 -0400 (Sun, 15 Oct 2023) EllapsedTime: 9.6 seconds RetCode: 0 Status: OK