Package: marray Version: 1.78.0 Command: /home/biocbuild/bbs-3.17-bioc/R/bin/R CMD build --keep-empty-dirs --no-resave-data marray StartedAt: 2023-10-15 17:18:12 -0400 (Sun, 15 Oct 2023) EndedAt: 2023-10-15 17:18:47 -0400 (Sun, 15 Oct 2023) EllapsedTime: 34.4 seconds RetCode: 0 Status: OK PackageFile: marray_1.78.0.tar.gz PackageFileSize: 4.823 MiB