Package: maigesPack
Version: 1.64.0
Command: F:\biocbuild\bbs-3.17-bioc\R\bin\R.exe CMD INSTALL maigesPack
StartedAt: 2023-10-15 15:53:40 -0400 (Sun, 15 Oct 2023)
EndedAt: 2023-10-15 15:54:10 -0400 (Sun, 15 Oct 2023)
EllapsedTime: 30.1 seconds
RetCode: 0
Status: OK