Package: maigesPack
Version: 1.64.0
Command: chmod a+r maigesPack -R && F:\biocbuild\bbs-3.17-bioc\R\bin\R.exe CMD build --keep-empty-dirs --no-resave-data maigesPack
StartedAt: 2023-10-15 20:09:19 -0400 (Sun, 15 Oct 2023)
EndedAt: 2023-10-15 20:09:55 -0400 (Sun, 15 Oct 2023)
EllapsedTime: 36.0 seconds
RetCode: 0
Status: OK
PackageFile: maigesPack_1.64.0.tar.gz
PackageFileSize: 1.046 <A href="http://en.wikipedia.org/wiki/MiB" target="_blank">MiB</A>