Package: maigesPack
Version: 1.64.0
Command: rm -rf maigesPack.buildbin-libdir && mkdir maigesPack.buildbin-libdir && F:\biocbuild\bbs-3.17-bioc\R\bin\R.exe CMD INSTALL --build --library=maigesPack.buildbin-libdir maigesPack_1.64.0.tar.gz
StartedAt: 2023-10-16 09:01:29 -0400 (Mon, 16 Oct 2023)
EndedAt: 2023-10-16 09:01:52 -0400 (Mon, 16 Oct 2023)
EllapsedTime: 22.9 seconds
RetCode: 0
Status: OK
PackageFile: maigesPack_1.64.0.zip
PackageFileSize: 1.504 <A href="http://en.wikipedia.org/wiki/MiB" target="_blank">MiB</A>