Package: maanova
Version: 1.70.0
Command: /home/biocbuild/bbs-3.17-bioc/R/bin/R CMD INSTALL maanova
StartedAt: 2023-10-15 15:07:54 -0400 (Sun, 15 Oct 2023)
EndedAt: 2023-10-15 15:08:14 -0400 (Sun, 15 Oct 2023)
EllapsedTime: 19.7 seconds
RetCode: 1
Status: ERROR