git_url: https://git.bioconductor.org/packages/maCorrPlot
git_branch: RELEASE_3_17
git_last_commit: f72913e
git_last_commit_date: 2023-04-25 09:43:30 -0400 (Tue, 25 Apr 2023)
Package: maCorrPlot
Version: 1.70.0
Maintainer: Alexander Ploner
MaintainerEmail: Alexander.Ploner at ki.se