git_url: https://git.bioconductor.org/packages/mBPCR
git_branch: RELEASE_3_17
git_last_commit: fb93575
git_last_commit_date: 2023-04-25 09:49:14 -0400 (Tue, 25 Apr 2023)
Package: mBPCR
Version: 1.54.0
Maintainer: P.M.V. Rancoita
MaintainerEmail: rancoita.paola at gmail.com