Package: lipidr Version: 2.14.1 Command: /home/biocbuild/bbs-3.17-bioc/R/bin/R CMD INSTALL lipidr StartedAt: 2023-10-15 15:41:59 -0400 (Sun, 15 Oct 2023) EndedAt: 2023-10-15 15:42:26 -0400 (Sun, 15 Oct 2023) EllapsedTime: 27.1 seconds RetCode: 0 Status: OK