Package: ldblock Version: 1.30.0 Command: rm -rf ldblock.buildbin-libdir && mkdir ldblock.buildbin-libdir && F:\biocbuild\bbs-3.17-bioc\R\bin\R.exe CMD INSTALL --build --library=ldblock.buildbin-libdir ldblock_1.30.0.tar.gz StartedAt: 2023-10-16 09:00:05 -0400 (Mon, 16 Oct 2023) EndedAt: 2023-10-16 09:00:33 -0400 (Mon, 16 Oct 2023) EllapsedTime: 27.9 seconds RetCode: 0 Status: OK PackageFile: ldblock_1.30.0.zip PackageFileSize: 40.17 MiB