Package: ldblock Version: 1.30.0 Command: /home/biocbuild/bbs-3.17-bioc/R/bin/R CMD build --keep-empty-dirs --no-resave-data ldblock StartedAt: 2023-10-15 17:15:05 -0400 (Sun, 15 Oct 2023) EndedAt: 2023-10-15 17:15:54 -0400 (Sun, 15 Oct 2023) EllapsedTime: 48.6 seconds RetCode: 0 Status: OK PackageFile: ldblock_1.30.0.tar.gz PackageFileSize: 40.21 MiB