Package: ldblock
Version: 1.30.0
Command: /Library/Frameworks/R.framework/Resources/bin/R CMD INSTALL ldblock
StartedAt: 2023-10-15 15:10:22 -0400 (Sun, 15 Oct 2023)
EndedAt: 2023-10-15 15:11:03 -0400 (Sun, 15 Oct 2023)
EllapsedTime: 41.1 seconds
RetCode: 0
Status: OK