git_url: https://git.bioconductor.org/packages/interacCircos
git_branch: RELEASE_3_17
git_last_commit: 633b360
git_last_commit_date: 2023-04-25 11:28:49 -0400 (Tue, 25 Apr 2023)
Package: interacCircos
Version: 1.10.0
Maintainer: Zhe Cui
MaintainerEmail: mrcuizhe at gmail.com