Package: infinityFlow
Version: 1.10.0
Command: /home/biocbuild/bbs-3.17-bioc/R/bin/R CMD INSTALL infinityFlow
StartedAt: 2023-10-15 15:14:41 -0400 (Sun, 15 Oct 2023)
EndedAt: 2023-10-15 15:15:03 -0400 (Sun, 15 Oct 2023)
EllapsedTime: 21.5 seconds
RetCode: 0
Status: OK