Package: infinityFlow Version: 1.10.0 Command: /home/biocbuild/bbs-3.17-bioc/R/bin/R CMD build --keep-empty-dirs --no-resave-data infinityFlow StartedAt: 2023-10-15 17:10:26 -0400 (Sun, 15 Oct 2023) EndedAt: 2023-10-15 17:13:52 -0400 (Sun, 15 Oct 2023) EllapsedTime: 206.3 seconds RetCode: 0 Status: OK PackageFile: infinityFlow_1.10.0.tar.gz PackageFileSize: 1.709 <A href="http://en.wikipedia.org/wiki/MiB" target="_blank">MiB</A>