Package: infinityFlow Version: 1.10.0 Command: /Library/Frameworks/R.framework/Resources/bin/R CMD INSTALL infinityFlow StartedAt: 2023-10-15 15:24:31 -0400 (Sun, 15 Oct 2023) EndedAt: 2023-10-15 15:25:52 -0400 (Sun, 15 Oct 2023) EllapsedTime: 80.3 seconds RetCode: 0 Status: OK