Package: infinityFlow
Version: 1.10.0
Command: /Library/Frameworks/R.framework/Resources/bin/R CMD check --install=check:infinityFlow.install-out.txt --library=/Library/Frameworks/R.framework/Resources/library --no-vignettes --timings infinityFlow_1.10.0.tar.gz
StartedAt: 2023-10-16 02:52:36 -0400 (Mon, 16 Oct 2023)
EndedAt: 2023-10-16 03:00:04 -0400 (Mon, 16 Oct 2023)
EllapsedTime: 448.1 seconds
RetCode: 0
Status: OK
CheckDir: infinityFlow.Rcheck
Warnings: 0