Package: infinityFlow
Version: 1.10.0
Command: /Library/Frameworks/R.framework/Resources/bin/R CMD build --keep-empty-dirs --no-resave-data infinityFlow
StartedAt: 2023-10-15 18:59:40 -0400 (Sun, 15 Oct 2023)
EndedAt: 2023-10-15 19:08:24 -0400 (Sun, 15 Oct 2023)
EllapsedTime: 524.1 seconds
RetCode: 0
Status: OK
PackageFile: infinityFlow_1.10.0.tar.gz
PackageFileSize: 1.709 <A href="http://en.wikipedia.org/wiki/MiB" target="_blank">MiB</A>