Package: infinityFlow Version: 1.10.0 Command: rm -rf infinityFlow.buildbin-libdir && mkdir infinityFlow.buildbin-libdir && /Users/biocbuild/BBS/utils/build-universal.sh infinityFlow_1.10.0.tar.gz /Library/Frameworks/R.framework/Resources/bin/R infinityFlow.buildbin-libdir StartedAt: 2023-10-16 09:35:05 -0400 (Mon, 16 Oct 2023) EndedAt: 2023-10-16 09:36:33 -0400 (Mon, 16 Oct 2023) EllapsedTime: 88.1 seconds RetCode: 0 Status: OK PackageFile: infinityFlow_1.10.0.tgz PackageFileSize: 1.773 <A href="http://en.wikipedia.org/wiki/MiB" target="_blank">MiB</A>